BEGIN:VCALENDAR
VERSION:2.0
PRODID:-//Stockbrokers And Financial Advisers Association - ECPv4.7.3//NONSGML v1.0//EN
CALSCALE:GREGORIAN
METHOD:PUBLISH
X-WR-CALNAME:Stockbrokers And Financial Advisers Association
X-ORIGINAL-URL:https://www.stockbrokers.org.au
X-WR-CALDESC:Events for Stockbrokers And Financial Advisers Association
BEGIN:VEVENT
DTSTART;TZID=Australia/Sydney:19000101T000000
DTEND;TZID=Australia/Sydney:29991231T000000
DTSTAMP:20190228T164157
CREATED:20180112T043026Z
LAST-MODIFIED:20190228T163236Z
UID:2603--2208988800-32503593600@www.stockbrokers.org.au
SUMMARY:DTR-Cash Equities
DESCRIPTION:
URL:https://www.stockbrokers.org.au/education/qualifications/dtr-accreditation
LOCATION:Online
CATEGORIES:Training
END:VEVENT
BEGIN:VEVENT
DTSTART;TZID=Australia/Sydney:19000101T000000
DTEND;TZID=Australia/Sydney:29991231T000000
DTSTAMP:20190228T164157
CREATED:20180112T043027Z
LAST-MODIFIED:20190228T163237Z
UID:2605--2208988800-32503593600@www.stockbrokers.org.au
SUMMARY:ASIC ASX Markets\, Clearing and Settlement
DESCRIPTION:
URL:https://www.stockbrokers.org.au/event/asic-asx-markets-clearing-and-settlement
LOCATION:Online
CATEGORIES:Training
END:VEVENT
BEGIN:VEVENT
DTSTART;TZID=Australia/Sydney:19000101T000000
DTEND;TZID=Australia/Sydney:29991231T000000
DTSTAMP:20190228T164157
CREATED:20180112T043027Z
LAST-MODIFIED:20190228T163238Z
UID:2607--2208988800-32503593600@www.stockbrokers.org.au
SUMMARY:ASIC ASX Markets
DESCRIPTION:
URL:https://www.stockbrokers.org.au/event/asic-asx-markets
LOCATION:Online
CATEGORIES:Training
END:VEVENT
BEGIN:VEVENT
DTSTART;TZID=Australia/Sydney:19000101T000000
DTEND;TZID=Australia/Sydney:29991231T000000
DTSTAMP:20190228T164157
CREATED:20180112T043027Z
LAST-MODIFIED:20190228T163238Z
UID:2609--2208988800-32503593600@www.stockbrokers.org.au
SUMMARY:ASIC ASX Clearing and Settlement
DESCRIPTION:
URL:https://www.stockbrokers.org.au/event/asic-asx-clearing-and-settlement
LOCATION:Online
CATEGORIES:Training
END:VEVENT
BEGIN:VEVENT
DTSTART;TZID=Australia/Sydney:19000101T000000
DTEND;TZID=Australia/Sydney:29991231T000000
DTSTAMP:20190228T164157
CREATED:20180112T043027Z
LAST-MODIFIED:20190228T163239Z
UID:2611--2208988800-32503593600@www.stockbrokers.org.au
SUMMARY:Core 1
DESCRIPTION:
URL:https://www.stockbrokers.org.au/education/qualifications/core-1-accreditation
LOCATION:Online
CATEGORIES:Training
END:VEVENT
BEGIN:VEVENT
DTSTART;TZID=Australia/Sydney:19000101T000000
DTEND;TZID=Australia/Sydney:20991231T000000
DTSTAMP:20190228T164157
CREATED:20180112T043027Z
LAST-MODIFIED:20190228T163239Z
UID:2613--2208988800-4102358400@www.stockbrokers.org.au
SUMMARY:ADA Level 1
DESCRIPTION:
URL:https://www.stockbrokers.org.au/education/qualifications/derivatives-accreditation-adai
LOCATION:Online
CATEGORIES:Training
END:VEVENT
BEGIN:VEVENT
DTSTART;TZID=Australia/Sydney:19000101T000000
DTEND;TZID=Australia/Sydney:29991231T000000
DTSTAMP:20190228T164157
CREATED:20180112T043027Z
LAST-MODIFIED:20190228T163240Z
UID:2615--2208988800-32503593600@www.stockbrokers.org.au
SUMMARY:ADA Level 2
DESCRIPTION:
URL:https://www.stockbrokers.org.au/education/qualifications/derivatives-accreditation-ada2
LOCATION:Online
CATEGORIES:Training
END:VEVENT
BEGIN:VEVENT
DTSTART;TZID=Australia/Sydney:19000101T000000
DTEND;TZID=Australia/Sydney:29991231T000000
DTSTAMP:20190228T164157
CREATED:20180112T043027Z
LAST-MODIFIED:20190228T163241Z
UID:2617--2208988800-32503593600@www.stockbrokers.org.au
SUMMARY:Superannuation
DESCRIPTION:
URL:https://www.stockbrokers.org.au/education/qualifications/superannuation-accreditation
LOCATION:Online
CATEGORIES:Training
END:VEVENT
BEGIN:VEVENT
DTSTART;TZID=Australia/Sydney:19000101T000000
DTEND;TZID=Australia/Sydney:29991231T000000
DTSTAMP:20190228T164157
CREATED:20180112T043028Z
LAST-MODIFIED:20190228T163241Z
UID:2619--2208988800-32503593600@www.stockbrokers.org.au
SUMMARY:Margin Lending
DESCRIPTION:
URL:https://www.stockbrokers.org.au/education/qualifications/margin-lending-accreditation
LOCATION:Online
CATEGORIES:Training
END:VEVENT
BEGIN:VEVENT
DTSTART;TZID=Australia/Sydney:19000101T000000
DTEND;TZID=Australia/Sydney:29991231T000000
DTSTAMP:20190228T164157
CREATED:20180112T043028Z
LAST-MODIFIED:20190228T163242Z
UID:2621--2208988800-32503593600@www.stockbrokers.org.au
SUMMARY:Margin Lending Skills
DESCRIPTION:
URL:https://www.stockbrokers.org.au/education/qualifications/margin-lending-accreditation
LOCATION:Online
CATEGORIES:Training
END:VEVENT
BEGIN:VEVENT
DTSTART;TZID=Australia/Sydney:19000101T000000
DTEND;TZID=Australia/Sydney:29991231T000000
DTSTAMP:20190228T164157
CREATED:20180112T043028Z
LAST-MODIFIED:20190228T163243Z
UID:2623--2208988800-32503593600@www.stockbrokers.org.au
SUMMARY:Foreign Exchange
DESCRIPTION:
URL:https://www.stockbrokers.org.au/education/qualifications/foreign-exchange-accreditation
LOCATION:Online
CATEGORIES:Training
END:VEVENT
BEGIN:VEVENT
DTSTART;TZID=Australia/Sydney:19000101T080000
DTEND;TZID=Australia/Sydney:29991231T080000
DTSTAMP:20190228T164157
CREATED:20180112T043028Z
LAST-MODIFIED:20190228T163243Z
UID:2625--2208960000-32503622400@www.stockbrokers.org.au
SUMMARY:DTR-Derivatives
DESCRIPTION:
URL:https://www.stockbrokers.org.au/education/qualifications/dtr-accreditation
LOCATION:Online
CATEGORIES:Training
END:VEVENT
BEGIN:VEVENT
DTSTART;TZID=Australia/Sydney:20000101T000000
DTEND;TZID=Australia/Sydney:29991231T000000
DTSTAMP:20190228T164157
CREATED:20180112T043025Z
LAST-MODIFIED:20190228T164028Z
UID:2585-946684800-32503593600@www.stockbrokers.org.au
SUMMARY:Managed Investments Workshop
DESCRIPTION:
URL:https://www.stockbrokers.org.au/event/managed-investments-workshop
LOCATION:Online
CATEGORIES:Training
END:VEVENT
BEGIN:VEVENT
DTSTART;TZID=Australia/Sydney:20000101T000000
DTEND;TZID=Australia/Sydney:29991231T000000
DTSTAMP:20190228T164157
CREATED:20180112T043025Z
LAST-MODIFIED:20190228T164028Z
UID:2586-946684800-32503593600@www.stockbrokers.org.au
SUMMARY:Securities
DESCRIPTION:
URL:https://www.stockbrokers.org.au/education/qualifications/core-1-accreditation
LOCATION:Online
CATEGORIES:Training
END:VEVENT
BEGIN:VEVENT
DTSTART;TZID=Australia/Sydney:20000101T000000
DTEND;TZID=Australia/Sydney:29991231T000000
DTSTAMP:20190228T164157
CREATED:20180212T053719Z
LAST-MODIFIED:20190228T164029Z
UID:3422-946684800-32503593600@www.stockbrokers.org.au
SUMMARY:Managed Investments Test
DESCRIPTION:
URL:https://www.stockbrokers.org.au/education/qualifications/core-1-accreditation
LOCATION:Online
CATEGORIES:Training
END:VEVENT
BEGIN:VEVENT
DTSTART;TZID=Australia/Sydney:20000101T080000
DTEND;TZID=Australia/Sydney:29991231T080000
DTSTAMP:20190228T164157
CREATED:20180112T043025Z
LAST-MODIFIED:20190228T164029Z
UID:2587-946713600-32503622400@www.stockbrokers.org.au
SUMMARY:SDIA
DESCRIPTION:
URL:https://www.stockbrokers.org.au/event/sdia
LOCATION:Online
CATEGORIES:Training
END:VEVENT
BEGIN:VEVENT
DTSTART;TZID=Australia/Sydney:20000101T080000
DTEND;TZID=Australia/Sydney:29991231T080000
DTSTAMP:20190228T164157
CREATED:20180112T043025Z
LAST-MODIFIED:20190228T164029Z
UID:2588-946713600-32503622400@www.stockbrokers.org.au
SUMMARY:SDIA Skills
DESCRIPTION:
URL:https://www.stockbrokers.org.au/event/sdia-skills
LOCATION:Online
CATEGORIES:Training
END:VEVENT
BEGIN:VEVENT
DTSTART;TZID=Australia/Sydney:20190305T090000
DTEND;TZID=Australia/Sydney:20190305T110000
DTSTAMP:20190228T164157
CREATED:20190213T234404Z
LAST-MODIFIED:20190228T163229Z
UID:10849-1551776400-1551783600@www.stockbrokers.org.au
SUMMARY:Intro to Exchange Traded Options Workshop (Sydney)
DESCRIPTION:
URL:https://www.stockbrokers.org.au/event/intro-to-exchange-traded-options-workshop-sydney
LOCATION:SAFAA offices\, L6\, 56 Pitt Street
CATEGORIES:Workshops
END:VEVENT
BEGIN:VEVENT
DTSTART;TZID=Australia/Sydney:20190306T090000
DTEND;TZID=Australia/Sydney:20190306T110000
DTSTAMP:20190228T164157
CREATED:20190213T234405Z
LAST-MODIFIED:20190228T163230Z
UID:10851-1551862800-1551870000@www.stockbrokers.org.au
SUMMARY:Conduct Risk Workshop (Melbourne)
DESCRIPTION:
URL:https://www.stockbrokers.org.au/event/conduct-risk-workshop-melbourne
LOCATION:TBA
CATEGORIES:Workshops
END:VEVENT
BEGIN:VEVENT
DTSTART;TZID=Australia/Sydney:20190307T090000
DTEND;TZID=Australia/Sydney:20190307T120000
DTSTAMP:20190228T164157
CREATED:20190213T234405Z
LAST-MODIFIED:20190228T163230Z
UID:10853-1551949200-1551960000@www.stockbrokers.org.au
SUMMARY:Market Manipulation & Other Prohibited Conduct Workshop (Sydney)
DESCRIPTION:
URL:https://www.stockbrokers.org.au/event/market-manipulation-other-prohibited-conduct-workshop-sydney-2
LOCATION:SAFAA offices\, L6\, 56 Pitt Street
CATEGORIES:Workshops
END:VEVENT
BEGIN:VEVENT
DTSTART;TZID=Australia/Sydney:20190313T090000
DTEND;TZID=Australia/Sydney:20190313T110000
DTSTAMP:20190228T164157
CREATED:20190213T234406Z
LAST-MODIFIED:20190228T163231Z
UID:10861-1552467600-1552474800@www.stockbrokers.org.au
SUMMARY:Review and Remediation Workshop (Sydney)
DESCRIPTION:
URL:https://www.stockbrokers.org.au/event/review-and-remediation-workshop-sydney
LOCATION:SAFAA offices\, L6\, 56 Pitt Street
CATEGORIES:Workshops
END:VEVENT
BEGIN:VEVENT
DTSTART;TZID=Australia/Sydney:20190314T090000
DTEND;TZID=Australia/Sydney:20190314T110000
DTSTAMP:20190228T164157
CREATED:20190213T234405Z
LAST-MODIFIED:20190228T163230Z
UID:10855-1552554000-1552561200@www.stockbrokers.org.au
SUMMARY:Intro to Warrants Workshop (Melbourne)
DESCRIPTION:
URL:https://www.stockbrokers.org.au/event/intro-to-warrants-workshop-melbourne
LOCATION:TBA
CATEGORIES:Workshops
END:VEVENT
BEGIN:VEVENT
DTSTART;TZID=Australia/Sydney:20190314T090000
DTEND;TZID=Australia/Sydney:20190314T120000
DTSTAMP:20190228T164157
CREATED:20190213T234406Z
LAST-MODIFIED:20190228T163230Z
UID:10857-1552554000-1552564800@www.stockbrokers.org.au
SUMMARY:Insider Trading Workshop (Sydney)
DESCRIPTION:
URL:https://www.stockbrokers.org.au/event/insider-trading-workshop-sydney-2
LOCATION:SAFAA offices\, L6\, 56 Pitt Street
CATEGORIES:Workshops
END:VEVENT
BEGIN:VEVENT
DTSTART;TZID=Australia/Sydney:20190319T133000
DTEND;TZID=Australia/Sydney:20190319T163000
DTSTAMP:20190228T164157
CREATED:20190213T234407Z
LAST-MODIFIED:20190228T163231Z
UID:10863-1553002200-1553013000@www.stockbrokers.org.au
SUMMARY:Market Manipulation & Other Prohibited Conduct Workshop (Melbourne)
DESCRIPTION:
URL:https://www.stockbrokers.org.au/event/market-manipulation-other-prohibited-conduct-workshop-melbourne-2
LOCATION:TBA
CATEGORIES:Workshops
END:VEVENT
BEGIN:VEVENT
DTSTART;TZID=Australia/Sydney:20190320T090000
DTEND;TZID=Australia/Sydney:20190320T110000
DTSTAMP:20190228T164157
CREATED:20190213T234407Z
LAST-MODIFIED:20190228T163231Z
UID:10865-1553072400-1553079600@www.stockbrokers.org.au
SUMMARY:Intro to Warrants Workshop (Sydney)
DESCRIPTION:
URL:https://www.stockbrokers.org.au/event/intro-to-warrants-workshop-sydney
LOCATION:SAFAA offices\, L6\, 56 Pitt Street
CATEGORIES:Workshops
END:VEVENT
BEGIN:VEVENT
DTSTART;TZID=Australia/Sydney:20190321T090000
DTEND;TZID=Australia/Sydney:20190321T120000
DTSTAMP:20190228T164157
CREATED:20190213T234409Z
LAST-MODIFIED:20190228T163233Z
UID:10877-1553158800-1553169600@www.stockbrokers.org.au
SUMMARY:A Day in the Life of a Trade Workshop (Sydney)
DESCRIPTION:
URL:https://www.stockbrokers.org.au/event/a-day-in-the-life-of-a-trade-workshop-sydney-4
LOCATION:SAFAA offices\, L6\, 56 Pitt Street
CATEGORIES:Workshops
END:VEVENT
BEGIN:VEVENT
DTSTART;TZID=Australia/Sydney:20190326T133000
DTEND;TZID=Australia/Sydney:20190326T163000
DTSTAMP:20190228T164157
CREATED:20190213T234407Z
LAST-MODIFIED:20190228T163232Z
UID:10867-1553607000-1553617800@www.stockbrokers.org.au
SUMMARY:Insider Trading Workshop (Melbourne)
DESCRIPTION:
URL:https://www.stockbrokers.org.au/event/insider-trading-workshop-melbourne
LOCATION:TBA
CATEGORIES:Workshops
END:VEVENT
BEGIN:VEVENT
DTSTART;TZID=Australia/Sydney:20190328T120000
DTEND;TZID=Australia/Sydney:20190328T130000
DTSTAMP:20190228T164157
CREATED:20190213T234402Z
LAST-MODIFIED:20190228T163228Z
UID:10837-1553774400-1553778000@www.stockbrokers.org.au
SUMMARY:Intro to ETFs and Portfolio Solutions using ETFs (Sydney)
DESCRIPTION:
URL:https://www.stockbrokers.org.au/event/intro-to-etfs-and-portfolio-solutions-using-etfs-sydney-2
LOCATION:SAFAA offices\, L6\, 56 Pitt Street
CATEGORIES:Workshops
END:VEVENT
BEGIN:VEVENT
DTSTART;TZID=Australia/Sydney:20190328T123000
DTEND;TZID=Australia/Sydney:20190328T133000
DTSTAMP:20190228T164157
CREATED:20190213T234403Z
LAST-MODIFIED:20190228T163228Z
UID:10841-1553776200-1553779800@www.stockbrokers.org.au
SUMMARY:Introduction to Margin Lending Workshop (Perth)
DESCRIPTION:The workshops will provide participants with an awareness and understanding of Margin Lending. \nBy the end of the workshop\, participants should be able to: \n\nExplain what Margin Lending is and how it works\nCalculate how much a customer can borrow and perform other basic calculations\nExplain Margin Calls and strategies to reduce their probability\nExplain why a customer would use Margin Lending\n\nFace-to-face learning \nThe workshop is based on face-to-face learning and involves a mix of presentation\, case studies and scenario-based discussions. \nNo pre-requisite knowledge is required for participants of this workshop. \n
URL:https://www.stockbrokers.org.au/event/introduction-to-margin-lending-workshop-perth
LOCATION:Euroz Securities Limited offices – Level 18\, Alluvion\, 58 Mounts Bay Road\, Perth.
CATEGORIES:Workshops
END:VEVENT
BEGIN:VEVENT
DTSTART;TZID=Australia/Sydney:20190328T133000
DTEND;TZID=Australia/Sydney:20190328T163000
DTSTAMP:20190228T164157
CREATED:20190213T234409Z
LAST-MODIFIED:20190228T163233Z
UID:10879-1553779800-1553790600@www.stockbrokers.org.au
SUMMARY:A Day in the Life of a Trade Workshop (Melbourne)
DESCRIPTION:
URL:https://www.stockbrokers.org.au/event/a-day-in-the-life-of-a-trade-workshop-melbourne-3
LOCATION:TBA
CATEGORIES:Workshops
END:VEVENT
END:VCALENDAR