BEGIN:VCALENDAR
VERSION:2.0
PRODID:-//Stockbrokers and Investment Advisers Association - ECPv6.15.17//NONSGML v1.0//EN
CALSCALE:GREGORIAN
METHOD:PUBLISH
X-WR-CALNAME:Stockbrokers and Investment Advisers Association
X-ORIGINAL-URL:https://www.stockbrokers.org.au
X-WR-CALDESC:Events for Stockbrokers and Investment Advisers Association
REFRESH-INTERVAL;VALUE=DURATION:PT1H
X-Robots-Tag:noindex
X-PUBLISHED-TTL:PT1H
BEGIN:VTIMEZONE
TZID:Australia/Sydney
BEGIN:STANDARD
TZOFFSETFROM:+1100
TZOFFSETTO:+1000
TZNAME:AEST
DTSTART:20250405T160000
END:STANDARD
BEGIN:DAYLIGHT
TZOFFSETFROM:+1000
TZOFFSETTO:+1100
TZNAME:AEDT
DTSTART:20251004T160000
END:DAYLIGHT
BEGIN:STANDARD
TZOFFSETFROM:+1100
TZOFFSETTO:+1000
TZNAME:AEST
DTSTART:20260404T160000
END:STANDARD
BEGIN:DAYLIGHT
TZOFFSETFROM:+1000
TZOFFSETTO:+1100
TZNAME:AEDT
DTSTART:20261003T160000
END:DAYLIGHT
BEGIN:STANDARD
TZOFFSETFROM:+1100
TZOFFSETTO:+1000
TZNAME:AEST
DTSTART:20270403T160000
END:STANDARD
BEGIN:DAYLIGHT
TZOFFSETFROM:+1000
TZOFFSETTO:+1100
TZNAME:AEDT
DTSTART:20271002T160000
END:DAYLIGHT
END:VTIMEZONE
BEGIN:VEVENT
DTSTART;TZID=Australia/Sydney:20260428T110000
DTEND;TZID=Australia/Sydney:20260428T133000
DTSTAMP:20260425T022357
CREATED:20251112T053008Z
LAST-MODIFIED:20260424T143014Z
UID:10000452-1777374000-1777383000@www.stockbrokers.org.au
SUMMARY:Market Manipulation & Other Prohibited Conduct Workshop
DESCRIPTION:
URL:https://www.stockbrokers.org.au/education/upcoming-events#market#new_tab
CATEGORIES:Public Workshops
END:VEVENT
END:VCALENDAR